BEGIN:VCALENDAR
VERSION:2.0
PRODID:-//St. Mary&#039;s County, MD - ARES - ECPv6.15.20//NONSGML v1.0//EN
CALSCALE:GREGORIAN
METHOD:PUBLISH
X-WR-CALNAME:St. Mary&#039;s County, MD - ARES
X-ORIGINAL-URL:https://stmarysares.org
X-WR-CALDESC:Events for St. Mary&#039;s County, MD - ARES
REFRESH-INTERVAL;VALUE=DURATION:PT1H
X-Robots-Tag:noindex
X-PUBLISHED-TTL:PT1H
BEGIN:VTIMEZONE
TZID:America/New_York
BEGIN:DAYLIGHT
TZOFFSETFROM:-0500
TZOFFSETTO:-0400
TZNAME:EDT
DTSTART:20260308T070000
END:DAYLIGHT
BEGIN:STANDARD
TZOFFSETFROM:-0400
TZOFFSETTO:-0500
TZNAME:EST
DTSTART:20261101T060000
END:STANDARD
BEGIN:DAYLIGHT
TZOFFSETFROM:-0500
TZOFFSETTO:-0400
TZNAME:EDT
DTSTART:20270314T070000
END:DAYLIGHT
BEGIN:STANDARD
TZOFFSETFROM:-0400
TZOFFSETTO:-0500
TZNAME:EST
DTSTART:20271107T060000
END:STANDARD
BEGIN:DAYLIGHT
TZOFFSETFROM:-0500
TZOFFSETTO:-0400
TZNAME:EDT
DTSTART:20280312T070000
END:DAYLIGHT
BEGIN:STANDARD
TZOFFSETFROM:-0400
TZOFFSETTO:-0500
TZNAME:EST
DTSTART:20281105T060000
END:STANDARD
BEGIN:DAYLIGHT
TZOFFSETFROM:-0500
TZOFFSETTO:-0400
TZNAME:EDT
DTSTART:20290311T070000
END:DAYLIGHT
BEGIN:STANDARD
TZOFFSETFROM:-0400
TZOFFSETTO:-0500
TZNAME:EST
DTSTART:20291104T060000
END:STANDARD
BEGIN:DAYLIGHT
TZOFFSETFROM:-0500
TZOFFSETTO:-0400
TZNAME:EDT
DTSTART:20300310T070000
END:DAYLIGHT
BEGIN:STANDARD
TZOFFSETFROM:-0400
TZOFFSETTO:-0500
TZNAME:EST
DTSTART:20301103T060000
END:STANDARD
END:VTIMEZONE
BEGIN:VEVENT
DTSTART;TZID=America/New_York:20270503T190000
DTEND;TZID=America/New_York:20270503T193000
DTSTAMP:20260424T165703
CREATED:20231017T100557Z
LAST-MODIFIED:20240717T100407Z
UID:10000056-1809370800-1809372600@stmarysares.org
SUMMARY:Weekly ARES Net - Alternate Repeater/Simplex
DESCRIPTION:Join us for our weekly ARES Net on 147.390 (+) T123.0 and following check ins we will be shifting to an alternate repeater or simplex frequency to see how we can react to a repeater loss.
URL:https://stmarysares.org/event/weekly-ares-net-1st-net-simplex-2/2027-05-03/
LOCATION:Leonardtown VHF Repeater 147.390 (+) T 123.0\, Leonardtown\, MD\, United States
CATEGORIES:Weekly Training Net
ORGANIZER;CN="Chris McGraw {KB2SKP}":MAILTO:stma.ec@stmarysares.org
END:VEVENT
BEGIN:VEVENT
DTSTART;TZID=America/New_York:20270607T190000
DTEND;TZID=America/New_York:20270607T193000
DTSTAMP:20260424T165703
CREATED:20231017T100557Z
LAST-MODIFIED:20240717T100407Z
UID:10000057-1812394800-1812396600@stmarysares.org
SUMMARY:Weekly ARES Net - Alternate Repeater/Simplex
DESCRIPTION:Join us for our weekly ARES Net on 147.390 (+) T123.0 and following check ins we will be shifting to an alternate repeater or simplex frequency to see how we can react to a repeater loss.
URL:https://stmarysares.org/event/weekly-ares-net-1st-net-simplex-2/2027-06-07/
LOCATION:Leonardtown VHF Repeater 147.390 (+) T 123.0\, Leonardtown\, MD\, United States
CATEGORIES:Weekly Training Net
ORGANIZER;CN="Chris McGraw {KB2SKP}":MAILTO:stma.ec@stmarysares.org
END:VEVENT
BEGIN:VEVENT
DTSTART;TZID=America/New_York:20270705T190000
DTEND;TZID=America/New_York:20270705T193000
DTSTAMP:20260424T165703
CREATED:20231017T100557Z
LAST-MODIFIED:20240717T100407Z
UID:10000058-1814814000-1814815800@stmarysares.org
SUMMARY:Weekly ARES Net - Alternate Repeater/Simplex
DESCRIPTION:Join us for our weekly ARES Net on 147.390 (+) T123.0 and following check ins we will be shifting to an alternate repeater or simplex frequency to see how we can react to a repeater loss.
URL:https://stmarysares.org/event/weekly-ares-net-1st-net-simplex-2/2027-07-05/
LOCATION:Leonardtown VHF Repeater 147.390 (+) T 123.0\, Leonardtown\, MD\, United States
CATEGORIES:Weekly Training Net
ORGANIZER;CN="Chris McGraw {KB2SKP}":MAILTO:stma.ec@stmarysares.org
END:VEVENT
BEGIN:VEVENT
DTSTART;TZID=America/New_York:20270802T190000
DTEND;TZID=America/New_York:20270802T193000
DTSTAMP:20260424T165703
CREATED:20231017T100557Z
LAST-MODIFIED:20240717T100407Z
UID:10000059-1817233200-1817235000@stmarysares.org
SUMMARY:Weekly ARES Net - Alternate Repeater/Simplex
DESCRIPTION:Join us for our weekly ARES Net on 147.390 (+) T123.0 and following check ins we will be shifting to an alternate repeater or simplex frequency to see how we can react to a repeater loss.
URL:https://stmarysares.org/event/weekly-ares-net-1st-net-simplex-2/2027-08-02/
LOCATION:Leonardtown VHF Repeater 147.390 (+) T 123.0\, Leonardtown\, MD\, United States
CATEGORIES:Weekly Training Net
ORGANIZER;CN="Chris McGraw {KB2SKP}":MAILTO:stma.ec@stmarysares.org
END:VEVENT
BEGIN:VEVENT
DTSTART;TZID=America/New_York:20270906T190000
DTEND;TZID=America/New_York:20270906T193000
DTSTAMP:20260424T165703
CREATED:20231017T100557Z
LAST-MODIFIED:20240717T100407Z
UID:10000060-1820257200-1820259000@stmarysares.org
SUMMARY:Weekly ARES Net - Alternate Repeater/Simplex
DESCRIPTION:Join us for our weekly ARES Net on 147.390 (+) T123.0 and following check ins we will be shifting to an alternate repeater or simplex frequency to see how we can react to a repeater loss.
URL:https://stmarysares.org/event/weekly-ares-net-1st-net-simplex-2/2027-09-06/
LOCATION:Leonardtown VHF Repeater 147.390 (+) T 123.0\, Leonardtown\, MD\, United States
CATEGORIES:Weekly Training Net
ORGANIZER;CN="Chris McGraw {KB2SKP}":MAILTO:stma.ec@stmarysares.org
END:VEVENT
BEGIN:VEVENT
DTSTART;TZID=America/New_York:20271004T190000
DTEND;TZID=America/New_York:20271004T193000
DTSTAMP:20260424T165703
CREATED:20231017T100557Z
LAST-MODIFIED:20240717T100407Z
UID:10000061-1822676400-1822678200@stmarysares.org
SUMMARY:Weekly ARES Net - Alternate Repeater/Simplex
DESCRIPTION:Join us for our weekly ARES Net on 147.390 (+) T123.0 and following check ins we will be shifting to an alternate repeater or simplex frequency to see how we can react to a repeater loss.
URL:https://stmarysares.org/event/weekly-ares-net-1st-net-simplex-2/2027-10-04/
LOCATION:Leonardtown VHF Repeater 147.390 (+) T 123.0\, Leonardtown\, MD\, United States
CATEGORIES:Weekly Training Net
ORGANIZER;CN="Chris McGraw {KB2SKP}":MAILTO:stma.ec@stmarysares.org
END:VEVENT
BEGIN:VEVENT
DTSTART;TZID=America/New_York:20271101T190000
DTEND;TZID=America/New_York:20271101T193000
DTSTAMP:20260424T165703
CREATED:20231017T100557Z
LAST-MODIFIED:20240717T100407Z
UID:10000062-1825095600-1825097400@stmarysares.org
SUMMARY:Weekly ARES Net - Alternate Repeater/Simplex
DESCRIPTION:Join us for our weekly ARES Net on 147.390 (+) T123.0 and following check ins we will be shifting to an alternate repeater or simplex frequency to see how we can react to a repeater loss.
URL:https://stmarysares.org/event/weekly-ares-net-1st-net-simplex-2/2027-11-01/
LOCATION:Leonardtown VHF Repeater 147.390 (+) T 123.0\, Leonardtown\, MD\, United States
CATEGORIES:Weekly Training Net
ORGANIZER;CN="Chris McGraw {KB2SKP}":MAILTO:stma.ec@stmarysares.org
END:VEVENT
BEGIN:VEVENT
DTSTART;TZID=America/New_York:20271206T190000
DTEND;TZID=America/New_York:20271206T193000
DTSTAMP:20260424T165703
CREATED:20231017T100557Z
LAST-MODIFIED:20240717T100407Z
UID:10000063-1828119600-1828121400@stmarysares.org
SUMMARY:Weekly ARES Net - Alternate Repeater/Simplex
DESCRIPTION:Join us for our weekly ARES Net on 147.390 (+) T123.0 and following check ins we will be shifting to an alternate repeater or simplex frequency to see how we can react to a repeater loss.
URL:https://stmarysares.org/event/weekly-ares-net-1st-net-simplex-2/2027-12-06/
LOCATION:Leonardtown VHF Repeater 147.390 (+) T 123.0\, Leonardtown\, MD\, United States
CATEGORIES:Weekly Training Net
ORGANIZER;CN="Chris McGraw {KB2SKP}":MAILTO:stma.ec@stmarysares.org
END:VEVENT
BEGIN:VEVENT
DTSTART;TZID=America/New_York:20280103T190000
DTEND;TZID=America/New_York:20280103T193000
DTSTAMP:20260424T165703
CREATED:20231017T100557Z
LAST-MODIFIED:20240717T100407Z
UID:10000064-1830538800-1830540600@stmarysares.org
SUMMARY:Weekly ARES Net - Alternate Repeater/Simplex
DESCRIPTION:Join us for our weekly ARES Net on 147.390 (+) T123.0 and following check ins we will be shifting to an alternate repeater or simplex frequency to see how we can react to a repeater loss.
URL:https://stmarysares.org/event/weekly-ares-net-1st-net-simplex-2/2028-01-03/
LOCATION:Leonardtown VHF Repeater 147.390 (+) T 123.0\, Leonardtown\, MD\, United States
CATEGORIES:Weekly Training Net
ORGANIZER;CN="Chris McGraw {KB2SKP}":MAILTO:stma.ec@stmarysares.org
END:VEVENT
BEGIN:VEVENT
DTSTART;TZID=America/New_York:20280207T190000
DTEND;TZID=America/New_York:20280207T193000
DTSTAMP:20260424T165703
CREATED:20231017T100557Z
LAST-MODIFIED:20240717T100407Z
UID:10000065-1833562800-1833564600@stmarysares.org
SUMMARY:Weekly ARES Net - Alternate Repeater/Simplex
DESCRIPTION:Join us for our weekly ARES Net on 147.390 (+) T123.0 and following check ins we will be shifting to an alternate repeater or simplex frequency to see how we can react to a repeater loss.
URL:https://stmarysares.org/event/weekly-ares-net-1st-net-simplex-2/2028-02-07/
LOCATION:Leonardtown VHF Repeater 147.390 (+) T 123.0\, Leonardtown\, MD\, United States
CATEGORIES:Weekly Training Net
ORGANIZER;CN="Chris McGraw {KB2SKP}":MAILTO:stma.ec@stmarysares.org
END:VEVENT
BEGIN:VEVENT
DTSTART;TZID=America/New_York:20280306T190000
DTEND;TZID=America/New_York:20280306T193000
DTSTAMP:20260424T165703
CREATED:20231017T100557Z
LAST-MODIFIED:20240717T100407Z
UID:10000351-1835982000-1835983800@stmarysares.org
SUMMARY:Weekly ARES Net - Alternate Repeater/Simplex
DESCRIPTION:Join us for our weekly ARES Net on 147.390 (+) T123.0 and following check ins we will be shifting to an alternate repeater or simplex frequency to see how we can react to a repeater loss.
URL:https://stmarysares.org/event/weekly-ares-net-1st-net-simplex-2/2028-03-06/
LOCATION:Leonardtown VHF Repeater 147.390 (+) T 123.0\, Leonardtown\, MD\, United States
CATEGORIES:Weekly Training Net
ORGANIZER;CN="Chris McGraw {KB2SKP}":MAILTO:stma.ec@stmarysares.org
END:VEVENT
BEGIN:VEVENT
DTSTART;TZID=America/New_York:20280403T190000
DTEND;TZID=America/New_York:20280403T193000
DTSTAMP:20260424T165703
CREATED:20231017T100557Z
LAST-MODIFIED:20240717T100407Z
UID:10000352-1838401200-1838403000@stmarysares.org
SUMMARY:Weekly ARES Net - Alternate Repeater/Simplex
DESCRIPTION:Join us for our weekly ARES Net on 147.390 (+) T123.0 and following check ins we will be shifting to an alternate repeater or simplex frequency to see how we can react to a repeater loss.
URL:https://stmarysares.org/event/weekly-ares-net-1st-net-simplex-2/2028-04-03/
LOCATION:Leonardtown VHF Repeater 147.390 (+) T 123.0\, Leonardtown\, MD\, United States
CATEGORIES:Weekly Training Net
ORGANIZER;CN="Chris McGraw {KB2SKP}":MAILTO:stma.ec@stmarysares.org
END:VEVENT
BEGIN:VEVENT
DTSTART;TZID=America/New_York:20280501T190000
DTEND;TZID=America/New_York:20280501T193000
DTSTAMP:20260424T165703
CREATED:20231017T100557Z
LAST-MODIFIED:20240717T100407Z
UID:10000353-1840820400-1840822200@stmarysares.org
SUMMARY:Weekly ARES Net - Alternate Repeater/Simplex
DESCRIPTION:Join us for our weekly ARES Net on 147.390 (+) T123.0 and following check ins we will be shifting to an alternate repeater or simplex frequency to see how we can react to a repeater loss.
URL:https://stmarysares.org/event/weekly-ares-net-1st-net-simplex-2/2028-05-01/
LOCATION:Leonardtown VHF Repeater 147.390 (+) T 123.0\, Leonardtown\, MD\, United States
CATEGORIES:Weekly Training Net
ORGANIZER;CN="Chris McGraw {KB2SKP}":MAILTO:stma.ec@stmarysares.org
END:VEVENT
BEGIN:VEVENT
DTSTART;TZID=America/New_York:20280605T190000
DTEND;TZID=America/New_York:20280605T193000
DTSTAMP:20260424T165703
CREATED:20231017T100557Z
LAST-MODIFIED:20240717T100407Z
UID:10000354-1843844400-1843846200@stmarysares.org
SUMMARY:Weekly ARES Net - Alternate Repeater/Simplex
DESCRIPTION:Join us for our weekly ARES Net on 147.390 (+) T123.0 and following check ins we will be shifting to an alternate repeater or simplex frequency to see how we can react to a repeater loss.
URL:https://stmarysares.org/event/weekly-ares-net-1st-net-simplex-2/2028-06-05/
LOCATION:Leonardtown VHF Repeater 147.390 (+) T 123.0\, Leonardtown\, MD\, United States
CATEGORIES:Weekly Training Net
ORGANIZER;CN="Chris McGraw {KB2SKP}":MAILTO:stma.ec@stmarysares.org
END:VEVENT
BEGIN:VEVENT
DTSTART;TZID=America/New_York:20280703T190000
DTEND;TZID=America/New_York:20280703T193000
DTSTAMP:20260424T165703
CREATED:20231017T100557Z
LAST-MODIFIED:20240717T100407Z
UID:10000355-1846263600-1846265400@stmarysares.org
SUMMARY:Weekly ARES Net - Alternate Repeater/Simplex
DESCRIPTION:Join us for our weekly ARES Net on 147.390 (+) T123.0 and following check ins we will be shifting to an alternate repeater or simplex frequency to see how we can react to a repeater loss.
URL:https://stmarysares.org/event/weekly-ares-net-1st-net-simplex-2/2028-07-03/
LOCATION:Leonardtown VHF Repeater 147.390 (+) T 123.0\, Leonardtown\, MD\, United States
CATEGORIES:Weekly Training Net
ORGANIZER;CN="Chris McGraw {KB2SKP}":MAILTO:stma.ec@stmarysares.org
END:VEVENT
BEGIN:VEVENT
DTSTART;TZID=America/New_York:20280807T190000
DTEND;TZID=America/New_York:20280807T193000
DTSTAMP:20260424T165703
CREATED:20231017T100557Z
LAST-MODIFIED:20240717T100407Z
UID:10000356-1849287600-1849289400@stmarysares.org
SUMMARY:Weekly ARES Net - Alternate Repeater/Simplex
DESCRIPTION:Join us for our weekly ARES Net on 147.390 (+) T123.0 and following check ins we will be shifting to an alternate repeater or simplex frequency to see how we can react to a repeater loss.
URL:https://stmarysares.org/event/weekly-ares-net-1st-net-simplex-2/2028-08-07/
LOCATION:Leonardtown VHF Repeater 147.390 (+) T 123.0\, Leonardtown\, MD\, United States
CATEGORIES:Weekly Training Net
ORGANIZER;CN="Chris McGraw {KB2SKP}":MAILTO:stma.ec@stmarysares.org
END:VEVENT
BEGIN:VEVENT
DTSTART;TZID=America/New_York:20280904T190000
DTEND;TZID=America/New_York:20280904T193000
DTSTAMP:20260424T165703
CREATED:20231017T100557Z
LAST-MODIFIED:20240717T100407Z
UID:10000357-1851706800-1851708600@stmarysares.org
SUMMARY:Weekly ARES Net - Alternate Repeater/Simplex
DESCRIPTION:Join us for our weekly ARES Net on 147.390 (+) T123.0 and following check ins we will be shifting to an alternate repeater or simplex frequency to see how we can react to a repeater loss.
URL:https://stmarysares.org/event/weekly-ares-net-1st-net-simplex-2/2028-09-04/
LOCATION:Leonardtown VHF Repeater 147.390 (+) T 123.0\, Leonardtown\, MD\, United States
CATEGORIES:Weekly Training Net
ORGANIZER;CN="Chris McGraw {KB2SKP}":MAILTO:stma.ec@stmarysares.org
END:VEVENT
BEGIN:VEVENT
DTSTART;TZID=America/New_York:20281002T190000
DTEND;TZID=America/New_York:20281002T193000
DTSTAMP:20260424T165703
CREATED:20231017T100557Z
LAST-MODIFIED:20240717T100407Z
UID:10000358-1854126000-1854127800@stmarysares.org
SUMMARY:Weekly ARES Net - Alternate Repeater/Simplex
DESCRIPTION:Join us for our weekly ARES Net on 147.390 (+) T123.0 and following check ins we will be shifting to an alternate repeater or simplex frequency to see how we can react to a repeater loss.
URL:https://stmarysares.org/event/weekly-ares-net-1st-net-simplex-2/2028-10-02/
LOCATION:Leonardtown VHF Repeater 147.390 (+) T 123.0\, Leonardtown\, MD\, United States
CATEGORIES:Weekly Training Net
ORGANIZER;CN="Chris McGraw {KB2SKP}":MAILTO:stma.ec@stmarysares.org
END:VEVENT
BEGIN:VEVENT
DTSTART;TZID=America/New_York:20281106T190000
DTEND;TZID=America/New_York:20281106T193000
DTSTAMP:20260424T165703
CREATED:20231017T100557Z
LAST-MODIFIED:20240717T100407Z
UID:10000396-1857150000-1857151800@stmarysares.org
SUMMARY:Weekly ARES Net - Alternate Repeater/Simplex
DESCRIPTION:Join us for our weekly ARES Net on 147.390 (+) T123.0 and following check ins we will be shifting to an alternate repeater or simplex frequency to see how we can react to a repeater loss.
URL:https://stmarysares.org/event/weekly-ares-net-1st-net-simplex-2/2028-11-06/
LOCATION:Leonardtown VHF Repeater 147.390 (+) T 123.0\, Leonardtown\, MD\, United States
CATEGORIES:Weekly Training Net
ORGANIZER;CN="Chris McGraw {KB2SKP}":MAILTO:stma.ec@stmarysares.org
END:VEVENT
BEGIN:VEVENT
DTSTART;TZID=America/New_York:20281204T190000
DTEND;TZID=America/New_York:20281204T193000
DTSTAMP:20260424T165703
CREATED:20231017T100557Z
LAST-MODIFIED:20240717T100407Z
UID:10000397-1859569200-1859571000@stmarysares.org
SUMMARY:Weekly ARES Net - Alternate Repeater/Simplex
DESCRIPTION:Join us for our weekly ARES Net on 147.390 (+) T123.0 and following check ins we will be shifting to an alternate repeater or simplex frequency to see how we can react to a repeater loss.
URL:https://stmarysares.org/event/weekly-ares-net-1st-net-simplex-2/2028-12-04/
LOCATION:Leonardtown VHF Repeater 147.390 (+) T 123.0\, Leonardtown\, MD\, United States
CATEGORIES:Weekly Training Net
ORGANIZER;CN="Chris McGraw {KB2SKP}":MAILTO:stma.ec@stmarysares.org
END:VEVENT
BEGIN:VEVENT
DTSTART;TZID=America/New_York:20290101T190000
DTEND;TZID=America/New_York:20290101T193000
DTSTAMP:20260424T165703
CREATED:20231017T100557Z
LAST-MODIFIED:20240717T100407Z
UID:10000398-1861988400-1861990200@stmarysares.org
SUMMARY:Weekly ARES Net - Alternate Repeater/Simplex
DESCRIPTION:Join us for our weekly ARES Net on 147.390 (+) T123.0 and following check ins we will be shifting to an alternate repeater or simplex frequency to see how we can react to a repeater loss.
URL:https://stmarysares.org/event/weekly-ares-net-1st-net-simplex-2/2029-01-01/
LOCATION:Leonardtown VHF Repeater 147.390 (+) T 123.0\, Leonardtown\, MD\, United States
CATEGORIES:Weekly Training Net
ORGANIZER;CN="Chris McGraw {KB2SKP}":MAILTO:stma.ec@stmarysares.org
END:VEVENT
BEGIN:VEVENT
DTSTART;TZID=America/New_York:20290205T190000
DTEND;TZID=America/New_York:20290205T193000
DTSTAMP:20260424T165703
CREATED:20231017T100557Z
LAST-MODIFIED:20240717T100407Z
UID:10000399-1865012400-1865014200@stmarysares.org
SUMMARY:Weekly ARES Net - Alternate Repeater/Simplex
DESCRIPTION:Join us for our weekly ARES Net on 147.390 (+) T123.0 and following check ins we will be shifting to an alternate repeater or simplex frequency to see how we can react to a repeater loss.
URL:https://stmarysares.org/event/weekly-ares-net-1st-net-simplex-2/2029-02-05/
LOCATION:Leonardtown VHF Repeater 147.390 (+) T 123.0\, Leonardtown\, MD\, United States
CATEGORIES:Weekly Training Net
ORGANIZER;CN="Chris McGraw {KB2SKP}":MAILTO:stma.ec@stmarysares.org
END:VEVENT
BEGIN:VEVENT
DTSTART;TZID=America/New_York:20290305T190000
DTEND;TZID=America/New_York:20290305T193000
DTSTAMP:20260424T165703
CREATED:20231017T100557Z
LAST-MODIFIED:20240717T100407Z
UID:10000400-1867431600-1867433400@stmarysares.org
SUMMARY:Weekly ARES Net - Alternate Repeater/Simplex
DESCRIPTION:Join us for our weekly ARES Net on 147.390 (+) T123.0 and following check ins we will be shifting to an alternate repeater or simplex frequency to see how we can react to a repeater loss.
URL:https://stmarysares.org/event/weekly-ares-net-1st-net-simplex-2/2029-03-05/
LOCATION:Leonardtown VHF Repeater 147.390 (+) T 123.0\, Leonardtown\, MD\, United States
CATEGORIES:Weekly Training Net
ORGANIZER;CN="Chris McGraw {KB2SKP}":MAILTO:stma.ec@stmarysares.org
END:VEVENT
BEGIN:VEVENT
DTSTART;TZID=America/New_York:20290402T190000
DTEND;TZID=America/New_York:20290402T193000
DTSTAMP:20260424T165703
CREATED:20231017T100557Z
LAST-MODIFIED:20240717T100407Z
UID:10000401-1869850800-1869852600@stmarysares.org
SUMMARY:Weekly ARES Net - Alternate Repeater/Simplex
DESCRIPTION:Join us for our weekly ARES Net on 147.390 (+) T123.0 and following check ins we will be shifting to an alternate repeater or simplex frequency to see how we can react to a repeater loss.
URL:https://stmarysares.org/event/weekly-ares-net-1st-net-simplex-2/2029-04-02/
LOCATION:Leonardtown VHF Repeater 147.390 (+) T 123.0\, Leonardtown\, MD\, United States
CATEGORIES:Weekly Training Net
ORGANIZER;CN="Chris McGraw {KB2SKP}":MAILTO:stma.ec@stmarysares.org
END:VEVENT
BEGIN:VEVENT
DTSTART;TZID=America/New_York:20290507T190000
DTEND;TZID=America/New_York:20290507T193000
DTSTAMP:20260424T165703
CREATED:20231017T100557Z
LAST-MODIFIED:20240717T100407Z
UID:10000402-1872874800-1872876600@stmarysares.org
SUMMARY:Weekly ARES Net - Alternate Repeater/Simplex
DESCRIPTION:Join us for our weekly ARES Net on 147.390 (+) T123.0 and following check ins we will be shifting to an alternate repeater or simplex frequency to see how we can react to a repeater loss.
URL:https://stmarysares.org/event/weekly-ares-net-1st-net-simplex-2/2029-05-07/
LOCATION:Leonardtown VHF Repeater 147.390 (+) T 123.0\, Leonardtown\, MD\, United States
CATEGORIES:Weekly Training Net
ORGANIZER;CN="Chris McGraw {KB2SKP}":MAILTO:stma.ec@stmarysares.org
END:VEVENT
BEGIN:VEVENT
DTSTART;TZID=America/New_York:20290604T190000
DTEND;TZID=America/New_York:20290604T193000
DTSTAMP:20260424T165703
CREATED:20231017T100557Z
LAST-MODIFIED:20240717T100407Z
UID:10000403-1875294000-1875295800@stmarysares.org
SUMMARY:Weekly ARES Net - Alternate Repeater/Simplex
DESCRIPTION:Join us for our weekly ARES Net on 147.390 (+) T123.0 and following check ins we will be shifting to an alternate repeater or simplex frequency to see how we can react to a repeater loss.
URL:https://stmarysares.org/event/weekly-ares-net-1st-net-simplex-2/2029-06-04/
LOCATION:Leonardtown VHF Repeater 147.390 (+) T 123.0\, Leonardtown\, MD\, United States
CATEGORIES:Weekly Training Net
ORGANIZER;CN="Chris McGraw {KB2SKP}":MAILTO:stma.ec@stmarysares.org
END:VEVENT
BEGIN:VEVENT
DTSTART;TZID=America/New_York:20290702T190000
DTEND;TZID=America/New_York:20290702T193000
DTSTAMP:20260424T165703
CREATED:20231017T100557Z
LAST-MODIFIED:20240717T100407Z
UID:10000404-1877713200-1877715000@stmarysares.org
SUMMARY:Weekly ARES Net - Alternate Repeater/Simplex
DESCRIPTION:Join us for our weekly ARES Net on 147.390 (+) T123.0 and following check ins we will be shifting to an alternate repeater or simplex frequency to see how we can react to a repeater loss.
URL:https://stmarysares.org/event/weekly-ares-net-1st-net-simplex-2/2029-07-02/
LOCATION:Leonardtown VHF Repeater 147.390 (+) T 123.0\, Leonardtown\, MD\, United States
CATEGORIES:Weekly Training Net
ORGANIZER;CN="Chris McGraw {KB2SKP}":MAILTO:stma.ec@stmarysares.org
END:VEVENT
BEGIN:VEVENT
DTSTART;TZID=America/New_York:20290806T190000
DTEND;TZID=America/New_York:20290806T193000
DTSTAMP:20260424T165703
CREATED:20231017T100557Z
LAST-MODIFIED:20240717T100407Z
UID:10000431-1880737200-1880739000@stmarysares.org
SUMMARY:Weekly ARES Net - Alternate Repeater/Simplex
DESCRIPTION:Join us for our weekly ARES Net on 147.390 (+) T123.0 and following check ins we will be shifting to an alternate repeater or simplex frequency to see how we can react to a repeater loss.
URL:https://stmarysares.org/event/weekly-ares-net-1st-net-simplex-2/2029-08-06/
LOCATION:Leonardtown VHF Repeater 147.390 (+) T 123.0\, Leonardtown\, MD\, United States
CATEGORIES:Weekly Training Net
ORGANIZER;CN="Chris McGraw {KB2SKP}":MAILTO:stma.ec@stmarysares.org
END:VEVENT
BEGIN:VEVENT
DTSTART;TZID=America/New_York:20290903T190000
DTEND;TZID=America/New_York:20290903T193000
DTSTAMP:20260424T165703
CREATED:20231017T100557Z
LAST-MODIFIED:20240717T100407Z
UID:10000432-1883156400-1883158200@stmarysares.org
SUMMARY:Weekly ARES Net - Alternate Repeater/Simplex
DESCRIPTION:Join us for our weekly ARES Net on 147.390 (+) T123.0 and following check ins we will be shifting to an alternate repeater or simplex frequency to see how we can react to a repeater loss.
URL:https://stmarysares.org/event/weekly-ares-net-1st-net-simplex-2/2029-09-03/
LOCATION:Leonardtown VHF Repeater 147.390 (+) T 123.0\, Leonardtown\, MD\, United States
CATEGORIES:Weekly Training Net
ORGANIZER;CN="Chris McGraw {KB2SKP}":MAILTO:stma.ec@stmarysares.org
END:VEVENT
BEGIN:VEVENT
DTSTART;TZID=America/New_York:20291001T190000
DTEND;TZID=America/New_York:20291001T193000
DTSTAMP:20260424T165703
CREATED:20231017T100557Z
LAST-MODIFIED:20240717T100407Z
UID:10000433-1885575600-1885577400@stmarysares.org
SUMMARY:Weekly ARES Net - Alternate Repeater/Simplex
DESCRIPTION:Join us for our weekly ARES Net on 147.390 (+) T123.0 and following check ins we will be shifting to an alternate repeater or simplex frequency to see how we can react to a repeater loss.
URL:https://stmarysares.org/event/weekly-ares-net-1st-net-simplex-2/2029-10-01/
LOCATION:Leonardtown VHF Repeater 147.390 (+) T 123.0\, Leonardtown\, MD\, United States
CATEGORIES:Weekly Training Net
ORGANIZER;CN="Chris McGraw {KB2SKP}":MAILTO:stma.ec@stmarysares.org
END:VEVENT
END:VCALENDAR