BEGIN:VCALENDAR
VERSION:2.0
PRODID:-//St. Mary&#039;s County, MD - ARES - ECPv6.15.20//NONSGML v1.0//EN
CALSCALE:GREGORIAN
METHOD:PUBLISH
X-WR-CALNAME:St. Mary&#039;s County, MD - ARES
X-ORIGINAL-URL:https://stmarysares.org
X-WR-CALDESC:Events for St. Mary&#039;s County, MD - ARES
REFRESH-INTERVAL;VALUE=DURATION:PT1H
X-Robots-Tag:noindex
X-PUBLISHED-TTL:PT1H
BEGIN:VTIMEZONE
TZID:America/New_York
BEGIN:DAYLIGHT
TZOFFSETFROM:-0500
TZOFFSETTO:-0400
TZNAME:EDT
DTSTART:20240310T070000
END:DAYLIGHT
BEGIN:STANDARD
TZOFFSETFROM:-0400
TZOFFSETTO:-0500
TZNAME:EST
DTSTART:20241103T060000
END:STANDARD
BEGIN:DAYLIGHT
TZOFFSETFROM:-0500
TZOFFSETTO:-0400
TZNAME:EDT
DTSTART:20250309T070000
END:DAYLIGHT
BEGIN:STANDARD
TZOFFSETFROM:-0400
TZOFFSETTO:-0500
TZNAME:EST
DTSTART:20251102T060000
END:STANDARD
BEGIN:DAYLIGHT
TZOFFSETFROM:-0500
TZOFFSETTO:-0400
TZNAME:EDT
DTSTART:20260308T070000
END:DAYLIGHT
BEGIN:STANDARD
TZOFFSETFROM:-0400
TZOFFSETTO:-0500
TZNAME:EST
DTSTART:20261101T060000
END:STANDARD
BEGIN:DAYLIGHT
TZOFFSETFROM:-0500
TZOFFSETTO:-0400
TZNAME:EDT
DTSTART:20270314T070000
END:DAYLIGHT
BEGIN:STANDARD
TZOFFSETFROM:-0400
TZOFFSETTO:-0500
TZNAME:EST
DTSTART:20271107T060000
END:STANDARD
END:VTIMEZONE
BEGIN:VEVENT
DTSTART;TZID=America/New_York:20260413T190000
DTEND;TZID=America/New_York:20260413T193000
DTSTAMP:20260424T164520
CREATED:20230225T193531Z
LAST-MODIFIED:20240717T100608Z
UID:10000190-1776106800-1776108600@stmarysares.org
SUMMARY:Weekly ARES Net
DESCRIPTION:Join us for our weekly ARES Net on 147.390 (+) T123.0
URL:https://stmarysares.org/event/weekly-ares-net-2/2026-04-13/
LOCATION:Leonardtown VHF Repeater 147.390 (+) T 123.0\, Leonardtown\, MD\, United States
CATEGORIES:Weekly Training Net
ORGANIZER;CN="Chris McGraw {KB2SKP}":MAILTO:stma.ec@stmarysares.org
END:VEVENT
BEGIN:VEVENT
DTSTART;TZID=America/New_York:20260406T190000
DTEND;TZID=America/New_York:20260406T193000
DTSTAMP:20260424T164520
CREATED:20231017T100557Z
LAST-MODIFIED:20240717T100407Z
UID:10000043-1775502000-1775503800@stmarysares.org
SUMMARY:Weekly ARES Net - Alternate Repeater/Simplex
DESCRIPTION:Join us for our weekly ARES Net on 147.390 (+) T123.0 and following check ins we will be shifting to an alternate repeater or simplex frequency to see how we can react to a repeater loss.
URL:https://stmarysares.org/event/weekly-ares-net-1st-net-simplex-2/2026-04-06/
LOCATION:Leonardtown VHF Repeater 147.390 (+) T 123.0\, Leonardtown\, MD\, United States
CATEGORIES:Weekly Training Net
ORGANIZER;CN="Chris McGraw {KB2SKP}":MAILTO:stma.ec@stmarysares.org
END:VEVENT
BEGIN:VEVENT
DTSTART;TZID=America/New_York:20260330T190000
DTEND;TZID=America/New_York:20260330T193000
DTSTAMP:20260424T164520
CREATED:20230225T193531Z
LAST-MODIFIED:20240717T100608Z
UID:10000189-1774897200-1774899000@stmarysares.org
SUMMARY:Weekly ARES Net
DESCRIPTION:Join us for our weekly ARES Net on 147.390 (+) T123.0
URL:https://stmarysares.org/event/weekly-ares-net-2/2026-03-30/
LOCATION:Leonardtown VHF Repeater 147.390 (+) T 123.0\, Leonardtown\, MD\, United States
CATEGORIES:Weekly Training Net
ORGANIZER;CN="Chris McGraw {KB2SKP}":MAILTO:stma.ec@stmarysares.org
END:VEVENT
BEGIN:VEVENT
DTSTART;TZID=America/New_York:20260323T190000
DTEND;TZID=America/New_York:20260323T193000
DTSTAMP:20260424T164520
CREATED:20230225T193531Z
LAST-MODIFIED:20240717T100608Z
UID:10000188-1774292400-1774294200@stmarysares.org
SUMMARY:Weekly ARES Net
DESCRIPTION:Join us for our weekly ARES Net on 147.390 (+) T123.0
URL:https://stmarysares.org/event/weekly-ares-net-2/2026-03-23/
LOCATION:Leonardtown VHF Repeater 147.390 (+) T 123.0\, Leonardtown\, MD\, United States
CATEGORIES:Weekly Training Net
ORGANIZER;CN="Chris McGraw {KB2SKP}":MAILTO:stma.ec@stmarysares.org
END:VEVENT
BEGIN:VEVENT
DTSTART;TZID=America/New_York:20260309T190000
DTEND;TZID=America/New_York:20260309T193000
DTSTAMP:20260424T164520
CREATED:20230225T193531Z
LAST-MODIFIED:20240717T100608Z
UID:10000186-1773082800-1773084600@stmarysares.org
SUMMARY:Weekly ARES Net
DESCRIPTION:Join us for our weekly ARES Net on 147.390 (+) T123.0
URL:https://stmarysares.org/event/weekly-ares-net-2/2026-03-09/
LOCATION:Leonardtown VHF Repeater 147.390 (+) T 123.0\, Leonardtown\, MD\, United States
CATEGORIES:Weekly Training Net
ORGANIZER;CN="Chris McGraw {KB2SKP}":MAILTO:stma.ec@stmarysares.org
END:VEVENT
BEGIN:VEVENT
DTSTART;TZID=America/New_York:20260302T190000
DTEND;TZID=America/New_York:20260302T193000
DTSTAMP:20260424T164520
CREATED:20231017T100557Z
LAST-MODIFIED:20240717T100407Z
UID:10000042-1772478000-1772479800@stmarysares.org
SUMMARY:Weekly ARES Net - Alternate Repeater/Simplex
DESCRIPTION:Join us for our weekly ARES Net on 147.390 (+) T123.0 and following check ins we will be shifting to an alternate repeater or simplex frequency to see how we can react to a repeater loss.
URL:https://stmarysares.org/event/weekly-ares-net-1st-net-simplex-2/2026-03-02/
LOCATION:Leonardtown VHF Repeater 147.390 (+) T 123.0\, Leonardtown\, MD\, United States
CATEGORIES:Weekly Training Net
ORGANIZER;CN="Chris McGraw {KB2SKP}":MAILTO:stma.ec@stmarysares.org
END:VEVENT
BEGIN:VEVENT
DTSTART;TZID=America/New_York:20260223T190000
DTEND;TZID=America/New_York:20260223T193000
DTSTAMP:20260424T164520
CREATED:20230225T193531Z
LAST-MODIFIED:20240717T100608Z
UID:10000185-1771873200-1771875000@stmarysares.org
SUMMARY:Weekly ARES Net
DESCRIPTION:Join us for our weekly ARES Net on 147.390 (+) T123.0
URL:https://stmarysares.org/event/weekly-ares-net-2/2026-02-23/
LOCATION:Leonardtown VHF Repeater 147.390 (+) T 123.0\, Leonardtown\, MD\, United States
CATEGORIES:Weekly Training Net
ORGANIZER;CN="Chris McGraw {KB2SKP}":MAILTO:stma.ec@stmarysares.org
END:VEVENT
BEGIN:VEVENT
DTSTART;TZID=America/New_York:20260209T190000
DTEND;TZID=America/New_York:20260209T193000
DTSTAMP:20260424T164520
CREATED:20230225T193531Z
LAST-MODIFIED:20240717T100608Z
UID:10000183-1770663600-1770665400@stmarysares.org
SUMMARY:Weekly ARES Net
DESCRIPTION:Join us for our weekly ARES Net on 147.390 (+) T123.0
URL:https://stmarysares.org/event/weekly-ares-net-2/2026-02-09/
LOCATION:Leonardtown VHF Repeater 147.390 (+) T 123.0\, Leonardtown\, MD\, United States
CATEGORIES:Weekly Training Net
ORGANIZER;CN="Chris McGraw {KB2SKP}":MAILTO:stma.ec@stmarysares.org
END:VEVENT
BEGIN:VEVENT
DTSTART;TZID=America/New_York:20260202T190000
DTEND;TZID=America/New_York:20260202T193000
DTSTAMP:20260424T164520
CREATED:20231017T100557Z
LAST-MODIFIED:20240717T100407Z
UID:10000041-1770058800-1770060600@stmarysares.org
SUMMARY:Weekly ARES Net - Alternate Repeater/Simplex
DESCRIPTION:Join us for our weekly ARES Net on 147.390 (+) T123.0 and following check ins we will be shifting to an alternate repeater or simplex frequency to see how we can react to a repeater loss.
URL:https://stmarysares.org/event/weekly-ares-net-1st-net-simplex-2/2026-02-02/
LOCATION:Leonardtown VHF Repeater 147.390 (+) T 123.0\, Leonardtown\, MD\, United States
CATEGORIES:Weekly Training Net
ORGANIZER;CN="Chris McGraw {KB2SKP}":MAILTO:stma.ec@stmarysares.org
END:VEVENT
BEGIN:VEVENT
DTSTART;TZID=America/New_York:20260126T190000
DTEND;TZID=America/New_York:20260126T193000
DTSTAMP:20260424T164521
CREATED:20230225T193531Z
LAST-MODIFIED:20240717T100608Z
UID:10000182-1769454000-1769455800@stmarysares.org
SUMMARY:Weekly ARES Net
DESCRIPTION:Join us for our weekly ARES Net on 147.390 (+) T123.0
URL:https://stmarysares.org/event/weekly-ares-net-2/2026-01-26/
LOCATION:Leonardtown VHF Repeater 147.390 (+) T 123.0\, Leonardtown\, MD\, United States
CATEGORIES:Weekly Training Net
ORGANIZER;CN="Chris McGraw {KB2SKP}":MAILTO:stma.ec@stmarysares.org
END:VEVENT
BEGIN:VEVENT
DTSTART;TZID=America/New_York:20260112T190000
DTEND;TZID=America/New_York:20260112T193000
DTSTAMP:20260424T164521
CREATED:20230225T193531Z
LAST-MODIFIED:20240717T100608Z
UID:10000180-1768244400-1768246200@stmarysares.org
SUMMARY:Weekly ARES Net
DESCRIPTION:Join us for our weekly ARES Net on 147.390 (+) T123.0
URL:https://stmarysares.org/event/weekly-ares-net-2/2026-01-12/
LOCATION:Leonardtown VHF Repeater 147.390 (+) T 123.0\, Leonardtown\, MD\, United States
CATEGORIES:Weekly Training Net
ORGANIZER;CN="Chris McGraw {KB2SKP}":MAILTO:stma.ec@stmarysares.org
END:VEVENT
BEGIN:VEVENT
DTSTART;TZID=America/New_York:20260105T190000
DTEND;TZID=America/New_York:20260105T193000
DTSTAMP:20260424T164521
CREATED:20231017T100557Z
LAST-MODIFIED:20240717T100407Z
UID:10000040-1767639600-1767641400@stmarysares.org
SUMMARY:Weekly ARES Net - Alternate Repeater/Simplex
DESCRIPTION:Join us for our weekly ARES Net on 147.390 (+) T123.0 and following check ins we will be shifting to an alternate repeater or simplex frequency to see how we can react to a repeater loss.
URL:https://stmarysares.org/event/weekly-ares-net-1st-net-simplex-2/2026-01-05/
LOCATION:Leonardtown VHF Repeater 147.390 (+) T 123.0\, Leonardtown\, MD\, United States
CATEGORIES:Weekly Training Net
ORGANIZER;CN="Chris McGraw {KB2SKP}":MAILTO:stma.ec@stmarysares.org
END:VEVENT
BEGIN:VEVENT
DTSTART;TZID=America/New_York:20251229T190000
DTEND;TZID=America/New_York:20251229T193000
DTSTAMP:20260424T164521
CREATED:20230225T193531Z
LAST-MODIFIED:20240717T100608Z
UID:10000179-1767034800-1767036600@stmarysares.org
SUMMARY:Weekly ARES Net
DESCRIPTION:Join us for our weekly ARES Net on 147.390 (+) T123.0
URL:https://stmarysares.org/event/weekly-ares-net-2/2025-12-29/
LOCATION:Leonardtown VHF Repeater 147.390 (+) T 123.0\, Leonardtown\, MD\, United States
CATEGORIES:Weekly Training Net
ORGANIZER;CN="Chris McGraw {KB2SKP}":MAILTO:stma.ec@stmarysares.org
END:VEVENT
BEGIN:VEVENT
DTSTART;TZID=America/New_York:20251222T190000
DTEND;TZID=America/New_York:20251222T193000
DTSTAMP:20260424T164521
CREATED:20230225T193531Z
LAST-MODIFIED:20240717T100608Z
UID:10000178-1766430000-1766431800@stmarysares.org
SUMMARY:Weekly ARES Net
DESCRIPTION:Join us for our weekly ARES Net on 147.390 (+) T123.0
URL:https://stmarysares.org/event/weekly-ares-net-2/2025-12-22/
LOCATION:Leonardtown VHF Repeater 147.390 (+) T 123.0\, Leonardtown\, MD\, United States
CATEGORIES:Weekly Training Net
ORGANIZER;CN="Chris McGraw {KB2SKP}":MAILTO:stma.ec@stmarysares.org
END:VEVENT
BEGIN:VEVENT
DTSTART;TZID=America/New_York:20251208T190000
DTEND;TZID=America/New_York:20251208T193000
DTSTAMP:20260424T164521
CREATED:20230225T193531Z
LAST-MODIFIED:20240717T100608Z
UID:10000176-1765220400-1765222200@stmarysares.org
SUMMARY:Weekly ARES Net
DESCRIPTION:Join us for our weekly ARES Net on 147.390 (+) T123.0
URL:https://stmarysares.org/event/weekly-ares-net-2/2025-12-08/
LOCATION:Leonardtown VHF Repeater 147.390 (+) T 123.0\, Leonardtown\, MD\, United States
CATEGORIES:Weekly Training Net
ORGANIZER;CN="Chris McGraw {KB2SKP}":MAILTO:stma.ec@stmarysares.org
END:VEVENT
BEGIN:VEVENT
DTSTART;TZID=America/New_York:20251201T190000
DTEND;TZID=America/New_York:20251201T193000
DTSTAMP:20260424T164521
CREATED:20231017T100557Z
LAST-MODIFIED:20240717T100407Z
UID:10000039-1764615600-1764617400@stmarysares.org
SUMMARY:Weekly ARES Net - Alternate Repeater/Simplex
DESCRIPTION:Join us for our weekly ARES Net on 147.390 (+) T123.0 and following check ins we will be shifting to an alternate repeater or simplex frequency to see how we can react to a repeater loss.
URL:https://stmarysares.org/event/weekly-ares-net-1st-net-simplex-2/2025-12-01/
LOCATION:Leonardtown VHF Repeater 147.390 (+) T 123.0\, Leonardtown\, MD\, United States
CATEGORIES:Weekly Training Net
ORGANIZER;CN="Chris McGraw {KB2SKP}":MAILTO:stma.ec@stmarysares.org
END:VEVENT
BEGIN:VEVENT
DTSTART;TZID=America/New_York:20251124T190000
DTEND;TZID=America/New_York:20251124T193000
DTSTAMP:20260424T164521
CREATED:20230225T193531Z
LAST-MODIFIED:20240717T100608Z
UID:10000175-1764010800-1764012600@stmarysares.org
SUMMARY:Weekly ARES Net
DESCRIPTION:Join us for our weekly ARES Net on 147.390 (+) T123.0
URL:https://stmarysares.org/event/weekly-ares-net-2/2025-11-24/
LOCATION:Leonardtown VHF Repeater 147.390 (+) T 123.0\, Leonardtown\, MD\, United States
CATEGORIES:Weekly Training Net
ORGANIZER;CN="Chris McGraw {KB2SKP}":MAILTO:stma.ec@stmarysares.org
END:VEVENT
BEGIN:VEVENT
DTSTART;TZID=America/New_York:20251110T190000
DTEND;TZID=America/New_York:20251110T193000
DTSTAMP:20260424T164521
CREATED:20230225T193531Z
LAST-MODIFIED:20240717T100608Z
UID:10000173-1762801200-1762803000@stmarysares.org
SUMMARY:Weekly ARES Net
DESCRIPTION:Join us for our weekly ARES Net on 147.390 (+) T123.0
URL:https://stmarysares.org/event/weekly-ares-net-2/2025-11-10/
LOCATION:Leonardtown VHF Repeater 147.390 (+) T 123.0\, Leonardtown\, MD\, United States
CATEGORIES:Weekly Training Net
ORGANIZER;CN="Chris McGraw {KB2SKP}":MAILTO:stma.ec@stmarysares.org
END:VEVENT
BEGIN:VEVENT
DTSTART;TZID=America/New_York:20251103T190000
DTEND;TZID=America/New_York:20251103T193000
DTSTAMP:20260424T164521
CREATED:20231017T100557Z
LAST-MODIFIED:20240717T100407Z
UID:10000038-1762196400-1762198200@stmarysares.org
SUMMARY:Weekly ARES Net - Alternate Repeater/Simplex
DESCRIPTION:Join us for our weekly ARES Net on 147.390 (+) T123.0 and following check ins we will be shifting to an alternate repeater or simplex frequency to see how we can react to a repeater loss.
URL:https://stmarysares.org/event/weekly-ares-net-1st-net-simplex-2/2025-11-03/
LOCATION:Leonardtown VHF Repeater 147.390 (+) T 123.0\, Leonardtown\, MD\, United States
CATEGORIES:Weekly Training Net
ORGANIZER;CN="Chris McGraw {KB2SKP}":MAILTO:stma.ec@stmarysares.org
END:VEVENT
BEGIN:VEVENT
DTSTART;TZID=America/New_York:20251027T190000
DTEND;TZID=America/New_York:20251027T193000
DTSTAMP:20260424T164521
CREATED:20230225T193531Z
LAST-MODIFIED:20240717T100608Z
UID:10000172-1761591600-1761593400@stmarysares.org
SUMMARY:Weekly ARES Net
DESCRIPTION:Join us for our weekly ARES Net on 147.390 (+) T123.0
URL:https://stmarysares.org/event/weekly-ares-net-2/2025-10-27/
LOCATION:Leonardtown VHF Repeater 147.390 (+) T 123.0\, Leonardtown\, MD\, United States
CATEGORIES:Weekly Training Net
ORGANIZER;CN="Chris McGraw {KB2SKP}":MAILTO:stma.ec@stmarysares.org
END:VEVENT
BEGIN:VEVENT
DTSTART;TZID=America/New_York:20251013T190000
DTEND;TZID=America/New_York:20251013T193000
DTSTAMP:20260424T164521
CREATED:20230225T193531Z
LAST-MODIFIED:20240717T100608Z
UID:10000170-1760382000-1760383800@stmarysares.org
SUMMARY:Weekly ARES Net
DESCRIPTION:Join us for our weekly ARES Net on 147.390 (+) T123.0
URL:https://stmarysares.org/event/weekly-ares-net-2/2025-10-13/
LOCATION:Leonardtown VHF Repeater 147.390 (+) T 123.0\, Leonardtown\, MD\, United States
CATEGORIES:Weekly Training Net
ORGANIZER;CN="Chris McGraw {KB2SKP}":MAILTO:stma.ec@stmarysares.org
END:VEVENT
BEGIN:VEVENT
DTSTART;TZID=America/New_York:20251006T190000
DTEND;TZID=America/New_York:20251006T193000
DTSTAMP:20260424T164521
CREATED:20231017T100557Z
LAST-MODIFIED:20240717T100407Z
UID:10000037-1759777200-1759779000@stmarysares.org
SUMMARY:Weekly ARES Net - Alternate Repeater/Simplex
DESCRIPTION:Join us for our weekly ARES Net on 147.390 (+) T123.0 and following check ins we will be shifting to an alternate repeater or simplex frequency to see how we can react to a repeater loss.
URL:https://stmarysares.org/event/weekly-ares-net-1st-net-simplex-2/2025-10-06/
LOCATION:Leonardtown VHF Repeater 147.390 (+) T 123.0\, Leonardtown\, MD\, United States
CATEGORIES:Weekly Training Net
ORGANIZER;CN="Chris McGraw {KB2SKP}":MAILTO:stma.ec@stmarysares.org
END:VEVENT
BEGIN:VEVENT
DTSTART;TZID=America/New_York:20250929T190000
DTEND;TZID=America/New_York:20250929T193000
DTSTAMP:20260424T164521
CREATED:20230225T193531Z
LAST-MODIFIED:20240717T100608Z
UID:10000169-1759172400-1759174200@stmarysares.org
SUMMARY:Weekly ARES Net
DESCRIPTION:Join us for our weekly ARES Net on 147.390 (+) T123.0
URL:https://stmarysares.org/event/weekly-ares-net-2/2025-09-29/
LOCATION:Leonardtown VHF Repeater 147.390 (+) T 123.0\, Leonardtown\, MD\, United States
CATEGORIES:Weekly Training Net
ORGANIZER;CN="Chris McGraw {KB2SKP}":MAILTO:stma.ec@stmarysares.org
END:VEVENT
BEGIN:VEVENT
DTSTART;TZID=America/New_York:20250922T190000
DTEND;TZID=America/New_York:20250922T193000
DTSTAMP:20260424T164521
CREATED:20230225T193531Z
LAST-MODIFIED:20240717T100608Z
UID:10000168-1758567600-1758569400@stmarysares.org
SUMMARY:Weekly ARES Net
DESCRIPTION:Join us for our weekly ARES Net on 147.390 (+) T123.0
URL:https://stmarysares.org/event/weekly-ares-net-2/2025-09-22/
LOCATION:Leonardtown VHF Repeater 147.390 (+) T 123.0\, Leonardtown\, MD\, United States
CATEGORIES:Weekly Training Net
ORGANIZER;CN="Chris McGraw {KB2SKP}":MAILTO:stma.ec@stmarysares.org
END:VEVENT
BEGIN:VEVENT
DTSTART;TZID=America/New_York:20250908T190000
DTEND;TZID=America/New_York:20250908T193000
DTSTAMP:20260424T164521
CREATED:20230225T193531Z
LAST-MODIFIED:20240717T100608Z
UID:10000166-1757358000-1757359800@stmarysares.org
SUMMARY:Weekly ARES Net
DESCRIPTION:Join us for our weekly ARES Net on 147.390 (+) T123.0
URL:https://stmarysares.org/event/weekly-ares-net-2/2025-09-08/
LOCATION:Leonardtown VHF Repeater 147.390 (+) T 123.0\, Leonardtown\, MD\, United States
CATEGORIES:Weekly Training Net
ORGANIZER;CN="Chris McGraw {KB2SKP}":MAILTO:stma.ec@stmarysares.org
END:VEVENT
BEGIN:VEVENT
DTSTART;TZID=America/New_York:20250901T190000
DTEND;TZID=America/New_York:20250901T193000
DTSTAMP:20260424T164521
CREATED:20231017T100557Z
LAST-MODIFIED:20240717T100407Z
UID:10000036-1756753200-1756755000@stmarysares.org
SUMMARY:Weekly ARES Net - Alternate Repeater/Simplex
DESCRIPTION:Join us for our weekly ARES Net on 147.390 (+) T123.0 and following check ins we will be shifting to an alternate repeater or simplex frequency to see how we can react to a repeater loss.
URL:https://stmarysares.org/event/weekly-ares-net-1st-net-simplex-2/2025-09-01/
LOCATION:Leonardtown VHF Repeater 147.390 (+) T 123.0\, Leonardtown\, MD\, United States
CATEGORIES:Weekly Training Net
ORGANIZER;CN="Chris McGraw {KB2SKP}":MAILTO:stma.ec@stmarysares.org
END:VEVENT
BEGIN:VEVENT
DTSTART;TZID=America/New_York:20250825T190000
DTEND;TZID=America/New_York:20250825T193000
DTSTAMP:20260424T164521
CREATED:20230225T193531Z
LAST-MODIFIED:20240717T100608Z
UID:10000165-1756148400-1756150200@stmarysares.org
SUMMARY:Weekly ARES Net
DESCRIPTION:Join us for our weekly ARES Net on 147.390 (+) T123.0
URL:https://stmarysares.org/event/weekly-ares-net-2/2025-08-25/
LOCATION:Leonardtown VHF Repeater 147.390 (+) T 123.0\, Leonardtown\, MD\, United States
CATEGORIES:Weekly Training Net
ORGANIZER;CN="Chris McGraw {KB2SKP}":MAILTO:stma.ec@stmarysares.org
END:VEVENT
BEGIN:VEVENT
DTSTART;TZID=America/New_York:20250811T190000
DTEND;TZID=America/New_York:20250811T193000
DTSTAMP:20260424T164521
CREATED:20230225T193531Z
LAST-MODIFIED:20240717T100608Z
UID:10000163-1754938800-1754940600@stmarysares.org
SUMMARY:Weekly ARES Net
DESCRIPTION:Join us for our weekly ARES Net on 147.390 (+) T123.0
URL:https://stmarysares.org/event/weekly-ares-net-2/2025-08-11/
LOCATION:Leonardtown VHF Repeater 147.390 (+) T 123.0\, Leonardtown\, MD\, United States
CATEGORIES:Weekly Training Net
ORGANIZER;CN="Chris McGraw {KB2SKP}":MAILTO:stma.ec@stmarysares.org
END:VEVENT
BEGIN:VEVENT
DTSTART;TZID=America/New_York:20250804T190000
DTEND;TZID=America/New_York:20250804T193000
DTSTAMP:20260424T164521
CREATED:20231017T100557Z
LAST-MODIFIED:20240717T100407Z
UID:10000035-1754334000-1754335800@stmarysares.org
SUMMARY:Weekly ARES Net - Alternate Repeater/Simplex
DESCRIPTION:Join us for our weekly ARES Net on 147.390 (+) T123.0 and following check ins we will be shifting to an alternate repeater or simplex frequency to see how we can react to a repeater loss.
URL:https://stmarysares.org/event/weekly-ares-net-1st-net-simplex-2/2025-08-04/
LOCATION:Leonardtown VHF Repeater 147.390 (+) T 123.0\, Leonardtown\, MD\, United States
CATEGORIES:Weekly Training Net
ORGANIZER;CN="Chris McGraw {KB2SKP}":MAILTO:stma.ec@stmarysares.org
END:VEVENT
BEGIN:VEVENT
DTSTART;TZID=America/New_York:20250728T190000
DTEND;TZID=America/New_York:20250728T193000
DTSTAMP:20260424T164521
CREATED:20230225T193531Z
LAST-MODIFIED:20240717T100608Z
UID:10000162-1753729200-1753731000@stmarysares.org
SUMMARY:Weekly ARES Net
DESCRIPTION:Join us for our weekly ARES Net on 147.390 (+) T123.0
URL:https://stmarysares.org/event/weekly-ares-net-2/2025-07-28/
LOCATION:Leonardtown VHF Repeater 147.390 (+) T 123.0\, Leonardtown\, MD\, United States
CATEGORIES:Weekly Training Net
ORGANIZER;CN="Chris McGraw {KB2SKP}":MAILTO:stma.ec@stmarysares.org
END:VEVENT
END:VCALENDAR