BEGIN:VCALENDAR
VERSION:2.0
PRODID:-//St. Mary&#039;s County, MD - ARES - ECPv6.15.20//NONSGML v1.0//EN
CALSCALE:GREGORIAN
METHOD:PUBLISH
X-WR-CALNAME:St. Mary&#039;s County, MD - ARES
X-ORIGINAL-URL:https://stmarysares.org
X-WR-CALDESC:Events for St. Mary&#039;s County, MD - ARES
REFRESH-INTERVAL;VALUE=DURATION:PT1H
X-Robots-Tag:noindex
X-PUBLISHED-TTL:PT1H
BEGIN:VTIMEZONE
TZID:America/New_York
BEGIN:DAYLIGHT
TZOFFSETFROM:-0500
TZOFFSETTO:-0400
TZNAME:EDT
DTSTART:20260308T070000
END:DAYLIGHT
BEGIN:STANDARD
TZOFFSETFROM:-0400
TZOFFSETTO:-0500
TZNAME:EST
DTSTART:20261101T060000
END:STANDARD
BEGIN:DAYLIGHT
TZOFFSETFROM:-0500
TZOFFSETTO:-0400
TZNAME:EDT
DTSTART:20270314T070000
END:DAYLIGHT
BEGIN:STANDARD
TZOFFSETFROM:-0400
TZOFFSETTO:-0500
TZNAME:EST
DTSTART:20271107T060000
END:STANDARD
BEGIN:DAYLIGHT
TZOFFSETFROM:-0500
TZOFFSETTO:-0400
TZNAME:EDT
DTSTART:20280312T070000
END:DAYLIGHT
BEGIN:STANDARD
TZOFFSETFROM:-0400
TZOFFSETTO:-0500
TZNAME:EST
DTSTART:20281105T060000
END:STANDARD
END:VTIMEZONE
BEGIN:VEVENT
DTSTART;TZID=America/New_York:20270503T190000
DTEND;TZID=America/New_York:20270503T193000
DTSTAMP:20260421T073337
CREATED:20231017T100557Z
LAST-MODIFIED:20240717T100407Z
UID:10000056-1809370800-1809372600@stmarysares.org
SUMMARY:Weekly ARES Net - Alternate Repeater/Simplex
DESCRIPTION:Join us for our weekly ARES Net on 147.390 (+) T123.0 and following check ins we will be shifting to an alternate repeater or simplex frequency to see how we can react to a repeater loss.
URL:https://stmarysares.org/event/weekly-ares-net-1st-net-simplex-2/2027-05-03/
LOCATION:Leonardtown VHF Repeater 147.390 (+) T 123.0\, Leonardtown\, MD\, United States
CATEGORIES:Weekly Training Net
ORGANIZER;CN="Chris McGraw {KB2SKP}":MAILTO:stma.ec@stmarysares.org
END:VEVENT
BEGIN:VEVENT
DTSTART;TZID=America/New_York:20270510T190000
DTEND;TZID=America/New_York:20270510T193000
DTSTAMP:20260421T073337
CREATED:20230225T193531Z
LAST-MODIFIED:20240717T100608Z
UID:10000233-1809975600-1809977400@stmarysares.org
SUMMARY:Weekly ARES Net
DESCRIPTION:Join us for our weekly ARES Net on 147.390 (+) T123.0
URL:https://stmarysares.org/event/weekly-ares-net-2/2027-05-10/
LOCATION:Leonardtown VHF Repeater 147.390 (+) T 123.0\, Leonardtown\, MD\, United States
CATEGORIES:Weekly Training Net
ORGANIZER;CN="Chris McGraw {KB2SKP}":MAILTO:stma.ec@stmarysares.org
END:VEVENT
BEGIN:VEVENT
DTSTART;TZID=America/New_York:20270524T190000
DTEND;TZID=America/New_York:20270524T193000
DTSTAMP:20260421T073337
CREATED:20230225T193531Z
LAST-MODIFIED:20240717T100608Z
UID:10000235-1811185200-1811187000@stmarysares.org
SUMMARY:Weekly ARES Net
DESCRIPTION:Join us for our weekly ARES Net on 147.390 (+) T123.0
URL:https://stmarysares.org/event/weekly-ares-net-2/2027-05-24/
LOCATION:Leonardtown VHF Repeater 147.390 (+) T 123.0\, Leonardtown\, MD\, United States
CATEGORIES:Weekly Training Net
ORGANIZER;CN="Chris McGraw {KB2SKP}":MAILTO:stma.ec@stmarysares.org
END:VEVENT
BEGIN:VEVENT
DTSTART;TZID=America/New_York:20270531T190000
DTEND;TZID=America/New_York:20270531T193000
DTSTAMP:20260421T073337
CREATED:20230225T193531Z
LAST-MODIFIED:20240717T100608Z
UID:10000236-1811790000-1811791800@stmarysares.org
SUMMARY:Weekly ARES Net
DESCRIPTION:Join us for our weekly ARES Net on 147.390 (+) T123.0
URL:https://stmarysares.org/event/weekly-ares-net-2/2027-05-31/
LOCATION:Leonardtown VHF Repeater 147.390 (+) T 123.0\, Leonardtown\, MD\, United States
CATEGORIES:Weekly Training Net
ORGANIZER;CN="Chris McGraw {KB2SKP}":MAILTO:stma.ec@stmarysares.org
END:VEVENT
END:VCALENDAR